BEGIN:VCALENDAR
VERSION:2.0
PRODID:-//Alumni Zdravstvenog veleučilišta - ECPv6.15.18//NONSGML v1.0//EN
CALSCALE:GREGORIAN
METHOD:PUBLISH
X-ORIGINAL-URL:https://www.akzvu.hr
X-WR-CALDESC:Događanja za mjesec: Alumni Zdravstvenog veleučilišta
REFRESH-INTERVAL;VALUE=DURATION:PT1H
X-Robots-Tag:noindex
X-PUBLISHED-TTL:PT1H
BEGIN:VTIMEZONE
TZID:Europe/Zagreb
BEGIN:DAYLIGHT
TZOFFSETFROM:+0100
TZOFFSETTO:+0200
TZNAME:CEST
DTSTART:20180325T010000
END:DAYLIGHT
BEGIN:STANDARD
TZOFFSETFROM:+0200
TZOFFSETTO:+0100
TZNAME:CET
DTSTART:20181028T010000
END:STANDARD
BEGIN:DAYLIGHT
TZOFFSETFROM:+0100
TZOFFSETTO:+0200
TZNAME:CEST
DTSTART:20190331T010000
END:DAYLIGHT
BEGIN:STANDARD
TZOFFSETFROM:+0200
TZOFFSETTO:+0100
TZNAME:CET
DTSTART:20191027T010000
END:STANDARD
BEGIN:DAYLIGHT
TZOFFSETFROM:+0100
TZOFFSETTO:+0200
TZNAME:CEST
DTSTART:20200329T010000
END:DAYLIGHT
BEGIN:STANDARD
TZOFFSETFROM:+0200
TZOFFSETTO:+0100
TZNAME:CET
DTSTART:20201025T010000
END:STANDARD
BEGIN:DAYLIGHT
TZOFFSETFROM:+0100
TZOFFSETTO:+0200
TZNAME:CEST
DTSTART:20210328T010000
END:DAYLIGHT
BEGIN:STANDARD
TZOFFSETFROM:+0200
TZOFFSETTO:+0100
TZNAME:CET
DTSTART:20211031T010000
END:STANDARD
BEGIN:DAYLIGHT
TZOFFSETFROM:+0100
TZOFFSETTO:+0200
TZNAME:CEST
DTSTART:20220327T010000
END:DAYLIGHT
BEGIN:STANDARD
TZOFFSETFROM:+0200
TZOFFSETTO:+0100
TZNAME:CET
DTSTART:20221030T010000
END:STANDARD
BEGIN:DAYLIGHT
TZOFFSETFROM:+0100
TZOFFSETTO:+0200
TZNAME:CEST
DTSTART:20230326T010000
END:DAYLIGHT
BEGIN:STANDARD
TZOFFSETFROM:+0200
TZOFFSETTO:+0100
TZNAME:CET
DTSTART:20231029T010000
END:STANDARD
BEGIN:DAYLIGHT
TZOFFSETFROM:+0100
TZOFFSETTO:+0200
TZNAME:CEST
DTSTART:20240331T010000
END:DAYLIGHT
BEGIN:STANDARD
TZOFFSETFROM:+0200
TZOFFSETTO:+0100
TZNAME:CET
DTSTART:20241027T010000
END:STANDARD
BEGIN:DAYLIGHT
TZOFFSETFROM:+0100
TZOFFSETTO:+0200
TZNAME:CEST
DTSTART:20250330T010000
END:DAYLIGHT
BEGIN:STANDARD
TZOFFSETFROM:+0200
TZOFFSETTO:+0100
TZNAME:CET
DTSTART:20251026T010000
END:STANDARD
BEGIN:DAYLIGHT
TZOFFSETFROM:+0100
TZOFFSETTO:+0200
TZNAME:CEST
DTSTART:20260329T010000
END:DAYLIGHT
BEGIN:STANDARD
TZOFFSETFROM:+0200
TZOFFSETTO:+0100
TZNAME:CET
DTSTART:20261025T010000
END:STANDARD
END:VTIMEZONE
BEGIN:VEVENT
DTSTART;TZID=Europe/Zagreb:20250607T100000
DTEND;TZID=Europe/Zagreb:20250607T130000
DTSTAMP:20260420T161102
CREATED:20250602T195154Z
LAST-MODIFIED:20250603T172138Z
UID:8342-1749290400-1749301200@www.akzvu.hr
SUMMARY:Osnovni postupci održavanja života uz uporabu automatskog vanjskog defibrilatora
DESCRIPTION:Poštovani članovi\, \nzadovoljstvo nam je pozvati vas na Alumni edukaciju na temu Osnovni postupci održavanja života uz uporabu automatskog vanjskog defibrilatora\, koja će se održati u subotu\, 7. lipnja 2025. u 10.00 sati\, uživo u prostorima Zdravstvenog veleučilišta\, Ksaver 209\, Dvorana 302.\n \nBodovanje stručnih Komora \nSkup je prijavljen za bodovanje HKMS\, HKF te HKZR. Sudionici prisutni u dvorani će na zahtjev zaprimiti potvrde o sudjelovanju. \nNačin sudjelovanja \nČlanovi koji skupu žele nazočiti uživo u prostorima Zdravstvenog veleučilišta\, ulaznicu mogu rezervirati putem obrasca. \nProgram \n\n\n\n09.45 – 10.00\nRegistracija sudionika\n\n\n10.00 – 10.15\nPozdravni govor i otvorenje skupa\n\n\n10.15 – 11.00\nOsnovni postupci održavanja života uz uporabu automatskog vanjskog defibrilatora – predavanje (Dvorana 302)\nSaša Balija\, mag.med.techn.\, HSDHM\ndoc.dr.sc. Damir Važanić\, HSDHM\n\n\n11.15 – 12.45\nOsnovni postupci održavanja života uz uporabu automatskog vanjskog defibrilatora – radionica (Dvorane 304\, 305)\nSaša Balija\, mag.med.techn.\, HSDHM\ndoc.dr.sc. Damir Važanić\, HSDHM\n\n\n12.45 – 13.00\nDiskusija i zatvaranje skupa
URL:https://www.akzvu.hr/dogadaj/osnovni-postupci-odrzavanja-zivota-uz-uporabu-automatskog-vanjskog-defibrilatora/
LOCATION:Zdravstveno veleučilište (Ksaver 209\, Dvorana 302)\, Ksaver 209\, Zagreb\, 10000\, Croatia (Local Name: Hrvatska)
CATEGORIES:Događaji,Edukacije
ATTACH;FMTTYPE=image/jpeg:https://www.akzvu.hr/wp-content/uploads/2025/06/501466698_1264462942349606_7527933447034728889_n-e1748893855952.jpg
ORGANIZER;CN="AKZVU":MAILTO:alumni@akzvu.hr
END:VEVENT
BEGIN:VEVENT
DTSTART;TZID=Europe/Zagreb:20240516T160000
DTEND;TZID=Europe/Zagreb:20240516T173000
DTSTAMP:20260420T161102
CREATED:20240510T095727Z
LAST-MODIFIED:20240510T095727Z
UID:7993-1715875200-1715880600@www.akzvu.hr
SUMMARY:O melanomu – dijagnostika\, liječenje\, rehabilitacija i kvaliteta života
DESCRIPTION:Poštovani članovi\, \nzadovoljstvo nam je pozvati vas na Alumni edukaciju na temu O melanomu – dijagnostika\, liječenje\, rehabilitacija i kvaliteta života\, koja će se održati u četvrtak\, 16. svibnja 2024. od 16.00 sati\, uživo u prostorima Zdravstvenog veleučilišta\, Ksaver 209\, Dvorana 302.\n \nBodovanje stručnih Komora \nSkup je prijavljen za bodovanje nadležnim komorama: HKMS\, HKF. Sudionici prisutni u dvorani će na zahtjev zaprimiti potvrde o sudjelovanju. \nNačin sudjelovanja \nČlanovi koji skupu žele nazočiti uživo u prostorima Zdravstvenog veleučilišta\, ulaznicu mogu rezervirati putem obrasca u nastavku. Zainteresirani sudionici koji nisu Alumni članovi te studenti\, ovisno o broju raspoloživih mjesta\, ulaznicu mogu rezervirati putem posebnog obrasca. \nProgram \n\n\n\n15.45 – 16.00\nRegistracija sudionika\n\n\n16.00 – 16.10\nPozdravni govor i otvorenje skupa\nBoris ILIĆ\, mag.med.techn.\, pred.\, dopredsjednik AKZVU\nMargareta BEGIĆ\, dipl.physioth.\, voditeljica strukovnog razreda Fizioterapije\n\n\n16.10 – 16.30\nO melanomu s aspekta dermatoonkologa \nIzv.prof.dr.sc. Marija Buljan\, spec. dermatologije\, subspec. derm. onk.\nKBC Sestre Milosrdnice\, Poliklinika dr. Jelena Jakić\n\n\n\n16.30 – 16.50\nNjega kože\nSnježana Žic\, mag.med.techn.\nKBC Zagreb\, Glavna sestra Klinike za kožne i spolne bolesti \n\n\n16.50 – 17.10\nRehabilitacija ožiljaka\nLidija Ščurić-Antolković\, bacc.physioth.\, Osteo-higija\nMartina Knežević\, bacc.physioth.\, Osteo-higija\n\n\n17.10- 17.30\nDiskusija i zatvaranje skupa
URL:https://www.akzvu.hr/dogadaj/o-melanomu-dijagnostika-lijecenje-rehabilitacija-i-kvaliteta-zivota/
LOCATION:Zdravstveno veleučilište (Ksaver 209\, Dvorana 302)\, Ksaver 209\, Zagreb\, 10000\, Croatia (Local Name: Hrvatska)
CATEGORIES:Događaji,Edukacije
ATTACH;FMTTYPE=image/png:https://www.akzvu.hr/wp-content/uploads/2024/05/melanom.png
ORGANIZER;CN="AKZVU":MAILTO:alumni@akzvu.hr
END:VEVENT
BEGIN:VEVENT
DTSTART;TZID=Europe/Zagreb:20230220T160000
DTEND;TZID=Europe/Zagreb:20230220T173000
DTSTAMP:20260420T161102
CREATED:20230213T130312Z
LAST-MODIFIED:20230213T130905Z
UID:6848-1676908800-1676914200@www.akzvu.hr
SUMMARY:Radiokirurško liječenje primarnih i sekundarnih tumora
DESCRIPTION:Poštovani članovi\, \nzadovoljstvo nam je pozvati Vas na Alumni simpozij na temu Radiokirurško liječenje primarnih i sekundarnih tumora\, uz prikaz najnaprednijih radiokirurških tehnika\, koji će se održati u ponedjeljak\, 20. veljače 2023. od 16.00 sati\, uživo u prostorima Zdravstvenog veleučilišta\, Ksaver 209\, Dvorana 303. \nBodovanje stručnih Komora \nSudionici prisutni u dvorani imati će mogućnost upisa na evidencijske liste HKZR te će na zahtjev zaprimiti potvrde o sudjelovanju temeljem kojih mogu i naknadno zatražiti bodovanje nadležnih komora. \nNačin sudjelovanja \nČlanovi koji skupu žele nazočiti uživo u prostorima Zdravstvenog veleučilišta\, ulaznicu mogu rezervirati putem obrasca u nastavku. Zainteresirani sudionici koji nisu Alumni članovi te studenti\, ovisno o broju raspoloživih mjesta\, ulaznicu mogu rezervirati putem posebnog obrasca. \nProgram \n\n\n\n15.45 – 16.00\nRegistracija sudionika\n\n\n16.00 – 16.10\nPozdravni govor i otvorenje skupa\nMargareta Begić\, dipl.physioth.\, tajnica AKZVU\nŽeljka Lubina\, bacc. rad. technol.\, voditelj SR ZRTD AKZVU\n\n\n16.10 – 16.25\nRadiokirurško liječenje primarnih i sekundarnih tumora\, uz prikaz najnaprednijih radiokirurških tehnika na primjeru primarnog raka gušterače\nDr. sc. Hrvoje Kaučić. dr. med.\, spec. radioterapije i onkologije\n\n\n16.25 – 16.40\nUloga medicinskog fizičara u radiokirurškom liječenju primarnih i sekundarnih tumora\, uz prikaz najnaprednijih radiokirurških tehnika na primjeru primarnog raka gušterače \nDomagoj Kosmina\, dipl. ing. fizike\, medicinski fizičar\n\n\n16.40 – 16.55\nUloga radiološkog tehnologa u radiokirurškom liječenju primarnih i sekundarnih tumora\, uz prikaz najnaprednijih radiokirurških tehnika na primjeru primarnog raka gušterače\nSanja Brezovec\, bacc. rad. tehn\,\, Marica Keser\, bacc. rad. tehn.\n\n\n16.55 – 17.30\nDiskusija i zatvaranje skupa\n\n\n\n 
URL:https://www.akzvu.hr/dogadaj/radiokirursko-lijecenje-primarnih-i-sekundarnih-tumora/
LOCATION:Zdravstveno veleučilište (Ksaver 209\, D303)\, Ksaver 209\, Zagreb\, 10000\, Croatia (Local Name: Hrvatska)
CATEGORIES:Događaji,Edukacije
ATTACH;FMTTYPE=image/png:https://www.akzvu.hr/wp-content/uploads/2023/02/5C6C64DE-E6E1-4611-9245-584E298E3E4A.png
ORGANIZER;CN="AKZVU":MAILTO:alumni@akzvu.hr
END:VEVENT
BEGIN:VEVENT
DTSTART;TZID=Europe/Zagreb:20221212T161500
DTEND;TZID=Europe/Zagreb:20221212T173000
DTSTAMP:20260420T161102
CREATED:20221207T125007Z
LAST-MODIFIED:20221207T125007Z
UID:6677-1670861700-1670866200@www.akzvu.hr
SUMMARY:Nuklearno-medicinske metode u dijagnostici neurodegenerativnih bolesti
DESCRIPTION:Poštovani članovi\, \nzadovoljstvo nam je pozvati Vas na Alumni simpozij na temu Nuklearno-medicinske metode u dijagnostici neurodegenerativnih bolesti\, koji će se održati u ponedjeljak\, 12. prosinca 2022. od 16.15 sati\, uživo u prostorima Zdravstvenog veleučilišta\, Ksaver 209\, Dvorana 303. Događaj će biti u izravnom prijenosu i putem kanala društvenih mreža. \nBodovanje stručnih Komora \nSudionici prisutni u dvorani imati će mogućnost upisa na evidencijske liste HKZR te će zaprimiti potvrde o sudjelovanju temeljem kojih mogu i naknadno zatražiti bodovanje nadležnih komora. Praćenje događaja u prijenosu uživo putem kanala društvenih mreža nije moguće bodovati. \nNačin sudjelovanja \nČlanovi koji skupu žele nazočiti uživo u prostorima Zdravstvenog veleučilišta\, ulaznicu mogu rezervirati putem obrasca u nastavku. Zainteresirani sudionici koji nisu Alumni članovi te studenti\, ovisno o broju raspoloživih mjesta\, ulaznicu mogu rezervirati putem posebnog obrasca. \nDogađaj je moguće pratiti u izravnom prijenosu online\, za koji nije potrebno rezervirati ulaznicu. \n  \nProgram \n\n\n\n16.00 – 16.15\nRegistracija sudionika\n\n\n16.15 – 16.25\nPozdravni govor i otvorenje skupa\nBoris Ilić\, mag.med.techn.\, dopredsjednik AKZVU\nŽeljka Lubina\, bacc. rad. techn.\, voditelj SR ZRTD AKZVU\n\n\n16.25 – 16.40\nDemencije – izazov 21. stoljeća\nProf.dr.sc. Zlatko Trkanjec\, dr. med\n\n\n\n16.40 – 16.55\nNuklearna medicina u dijagnostici neurodegenerativnih bolesti\nDr.sc.Ines Šiško Markoš\, dr.med\n\n\n\n16.55 – 17.10\nNuklearna medicina u dijagnostici neurodegenerativnih bolesti – tehnološki aspekti\nMatej Butigan\, bacc.radiol.tech.\n\n\n\n17.10 – 17.30\nDiskusija i zatvaranje skupa\n\n\n\n 
URL:https://www.akzvu.hr/dogadaj/nuklearno-medicinske-metode-u-dijagnostici-neurodegenerativnih-bolesti/
LOCATION:Zdravstveno veleučilište (Ksaver 209\, D303)\, Ksaver 209\, Zagreb\, 10000\, Croatia (Local Name: Hrvatska)
CATEGORIES:Događaji,Edukacije
ATTACH;FMTTYPE=image/png:https://www.akzvu.hr/wp-content/uploads/2022/12/E734762A-78B7-4B06-9029-40EDE7312C93.png
ORGANIZER;CN="AKZVU":MAILTO:alumni@akzvu.hr
END:VEVENT
BEGIN:VEVENT
DTSTART;TZID=Europe/Zagreb:20221109T170000
DTEND;TZID=Europe/Zagreb:20221109T184500
DTSTAMP:20260420T161102
CREATED:20221023T194037Z
LAST-MODIFIED:20221109T151451Z
UID:6419-1668013200-1668019500@www.akzvu.hr
SUMMARY:Multidisciplinarni pristup u palijativnoj skrbi
DESCRIPTION:Poštovani članovi\, \nzadovoljstvo nam je pozvati Vas na drugi dio Alumni simpozija u organizaciji strukovnog razreda Fizioterapije\, na temu Multidisciplinarni pristup u palijativnoj skrbi\, koji će se održati u srijedu\, 9. studenog 2022. od 17 sati\, uživo putem Zoom platforme te u izravnom prijenosu na kanalima društvenih mreža. \nBodovanje stručnih Komora \nSudionici s rezerviranim ulaznicama za Zoom događaj imati će mogućnost upisa na evidencijske liste HKMS i HKF te će zaprimiti potvrde o sudjelovanju putem e-mail adrese\, temeljem kojih mogu i naknadno zatražiti bodovanje drugih komora. \nNačin sudjelovanja \nVAŽNA OBAVIJEST: Uslijed neočekivanih organizacijskih promjena\, skup će se održati putem Zoom platforme. Svi članovi koji su zatražili ulaznice za događaj zaprimili su Zoom poveznicu putem e-maila\, kao i obrazac za evidenciju bodova HKMS te HKF. Ostali zainteresirani članovi\, skup mogu pratiti u izravnom prijenosu putem Facebook stranica kluba. \nProgram \n\n\n\n16:45 – 17:00\nRegistracija sudionika\n\n\n17:00 – 17:10\nPozdravni govor i otvorenje skupa\nBoris Ilić\, dipl.med.techn.\, dopredsjednik AKZVU\nMargareta Begić\, dipl.physioth.\, voditelj strukovnog razreda fizioterapije\n\n\n17:10 – 17:25\nTimski rad u palijativnoj skrbi\nŠtefanija Ozimec Vulinec\, prof.\, Zdravstveno veleučilište Zagreb\n\n\n17.25 – 17.40\nSpecifičnosti rada u palijativnoj skrbi\nmr.sc. Renata Bermanec\, koordinator sustava palijativne skrbi u Međimurskoj županiji\n\n\n17.40 – 17.55\nPrikaz fizioterapeutske djelatnosti u hospiciju\nIrena Košmerl Perčić\, bacc.physioth.\, Hospicij Marija K. Kozulić\, Rijeka\n\n\n17.55 – 18.10\nPrikaz uloge fizioterapeuta u palijativnoj skrbi u Njemačkoj\nAna Ivić\, bacc.physioth.\n\n\n18.10 – 18.25\nVolontiranje u palijativnoj skrbi\nMargareta Begić\, dipl.physioth.\, voditelj strukovnog razreda fizioterapije\n\n\n18.25 – 18.40\nDiskusija i zatvaranje skupa\n\n\n\n 
URL:https://www.akzvu.hr/dogadaj/multidisciplinarni-pristup-u-palijativnoj-skrbi-2/
LOCATION:Zoom platforma / Online
CATEGORIES:Događaji,Konferencije
ATTACH;FMTTYPE=image/png:https://www.akzvu.hr/wp-content/uploads/2022/10/9B39A9B1-4CFB-4BD7-B90E-70F62063C7B9.png
ORGANIZER;CN="AKZVU":MAILTO:alumni@akzvu.hr
END:VEVENT
BEGIN:VEVENT
DTSTART;TZID=Europe/Zagreb:20220614T170000
DTEND;TZID=Europe/Zagreb:20220614T183000
DTSTAMP:20260420T161102
CREATED:20220607T074130Z
LAST-MODIFIED:20220609T093253Z
UID:5881-1655226000-1655231400@www.akzvu.hr
SUMMARY:Multidisciplinarni pristup u palijativnoj skrbi
DESCRIPTION:Poštovani članovi\, \nzadovoljstvo nam je pozvati Vas na Alumni simpozij na temu Multidisciplinarni pristup u palijativnoj skrbi\, koji će se održati u utorak\, 14. lipnja 2022. od 17 sati\, putem Zoom platforme te uživo u prostorima Zdravstvenog veleučilišta\, Ksaver 209\, Dvorana 303. \nBodovanje stručnih Komora \nSudionici prisutni u dvorani imati će mogućnost upisa na evidencijske liste HKMS i HKF te će zaprimiti potvrde o sudjelovanju temeljem kojih mogu i naknadno zatražiti bodovanje nadležnih komora. \nNačin sudjelovanja \nČlanovi koji skupu žele nazočiti uživo u prostorima Zdravstvenog veleučilišta\, ulaznicu mogu rezervirati putem obrasca: https://forms.office.com/r/j6CUHJDpDj \nSudionici koji skup žele pratiti online\, ne trebaju rezervirati ulaznicu\, već mogu pristupiti poveznici u vrijeme događaja: https://zvu-hr.zoom.us/j/81835559723?pwd=QVlGSFlSeW9HL3FaSDdVOTVlTy9QZz09 \n  \nProgram \n\n\n\n16:45 – 17:00\nRegistracija sudionika\n\n\n17:00 – 17:15\nPozdravni govor i otvorenje skupa\nDr. sc. Adriano Friganović\, dipl.med.techn.\, predsjednik AKZVU\nBoris Ilić\, dipl.med.techn.\, dopredsjednik AKZVU\nMargareta Begić\, dipl.physioth.\, voditelj strukovnog razreda fizioterapije\n\n\n17.15 – 17.30\nVolonteri u palijativnoj skrbi\nOlivera Kapetanović\, dipl.soc.rad.\, Udruga La Verna\n\n\n17.30 – 17.45\nPrikaz bolničke palijativne skrbi\nGordana Marković Štirjan\, dr.med.spec.int.med.subspec.int. onkologije\nSpecijalna bolnica za plućne bolesti\, Zagreb\n\n\n17.45 – 18.00\nRad mobilnog palijativnog tima\nAndrej Petranović\, dr.med.\, Kristina Škalec\, mag.med.techn.\n\n\n18.00 – 18.30\nDiskusija i zatvaranje skupa\n\n\n\n  \nRezervacija ulaznice – uživo\n 
URL:https://www.akzvu.hr/dogadaj/multidisciplinarni-pristup-u-palijativnoj-skrbi/
LOCATION:Zdravstveno veleučilište (Ksaver 209\, D303)\, Ksaver 209\, Zagreb\, 10000\, Croatia (Local Name: Hrvatska)
CATEGORIES:Događaji,Edukacije
ATTACH;FMTTYPE=image/png:https://www.akzvu.hr/wp-content/uploads/2022/06/97882CBD-7922-4E8F-8DE3-597941B0FF69.png
ORGANIZER;CN="AKZVU":MAILTO:alumni@akzvu.hr
END:VEVENT
BEGIN:VEVENT
DTSTART;TZID=Europe/Zagreb:20191211T153000
DTEND;TZID=Europe/Zagreb:20191211T161500
DTSTAMP:20260420T161102
CREATED:20191126T134505Z
LAST-MODIFIED:20191126T134505Z
UID:3222-1576078200-1576080900@www.akzvu.hr
SUMMARY:Skupština Alumni kluba ZVU
DESCRIPTION:Poštovani članovi Skupštine i voditelji strukovnih razreda\, \ntemeljem čl. 19. Statuta\, pozivamo Vas na Skupštinu Alumni kluba Zdravstvenog veleučilišta\, koja će se održati srijedu\, 11. prosinca 2019. godine s početkom u 15.30 sati\, u prostorima Zdravstvenog veleučilišta –  Dvorana 305\, Ksaver 209\, Zagreb sa predloženim slijedećim dnevnim redom: \n\nStručno i financijsko izvješće\nFinancijski plan te plan rada za 2020. godinu\nOdluka o izboru kandidata u potpomažuće članstvo\nRazno\n\nPredviđeno trajanje skupštine je 45 minuta.
URL:https://www.akzvu.hr/dogadaj/skupstina-alumni-kluba-zvu/
LOCATION:Zdravstveno veleučilište (Dvorana 305\, Ksaver 209)\, Ksaver 209\, Dvorana 305\, Zagreb\, 10000\, Croatia (Local Name: Hrvatska)
CATEGORIES:Događaji
ATTACH;FMTTYPE=image/png:https://www.akzvu.hr/wp-content/uploads/2017/09/20994322_1628785550492843_1485876124138800202_n-e1506104941436.png
ORGANIZER;CN="AKZVU":MAILTO:alumni@akzvu.hr
END:VEVENT
END:VCALENDAR