BEGIN:VCALENDAR
VERSION:2.0
PRODID:-//Alumni Zdravstvenog veleučilišta - ECPv6.15.18//NONSGML v1.0//EN
CALSCALE:GREGORIAN
METHOD:PUBLISH
X-ORIGINAL-URL:https://www.akzvu.hr
X-WR-CALDESC:Događanja za mjesec: Alumni Zdravstvenog veleučilišta
REFRESH-INTERVAL;VALUE=DURATION:PT1H
X-Robots-Tag:noindex
X-PUBLISHED-TTL:PT1H
BEGIN:VTIMEZONE
TZID:Europe/Zagreb
BEGIN:DAYLIGHT
TZOFFSETFROM:+0100
TZOFFSETTO:+0200
TZNAME:CEST
DTSTART:20160327T010000
END:DAYLIGHT
BEGIN:STANDARD
TZOFFSETFROM:+0200
TZOFFSETTO:+0100
TZNAME:CET
DTSTART:20161030T010000
END:STANDARD
BEGIN:DAYLIGHT
TZOFFSETFROM:+0100
TZOFFSETTO:+0200
TZNAME:CEST
DTSTART:20170326T010000
END:DAYLIGHT
BEGIN:STANDARD
TZOFFSETFROM:+0200
TZOFFSETTO:+0100
TZNAME:CET
DTSTART:20171029T010000
END:STANDARD
BEGIN:DAYLIGHT
TZOFFSETFROM:+0100
TZOFFSETTO:+0200
TZNAME:CEST
DTSTART:20180325T010000
END:DAYLIGHT
BEGIN:STANDARD
TZOFFSETFROM:+0200
TZOFFSETTO:+0100
TZNAME:CET
DTSTART:20181028T010000
END:STANDARD
END:VTIMEZONE
BEGIN:VEVENT
DTSTART;TZID=Europe/Zagreb:20170710T130000
DTEND;TZID=Europe/Zagreb:20170710T140000
DTSTAMP:20260422T122338
CREATED:20170705T120158Z
LAST-MODIFIED:20170705T120158Z
UID:1492-1499691600-1499695200@www.akzvu.hr
SUMMARY:Poziv na izbornu skupštinu
DESCRIPTION:Na temelju članka 19. Statuta Alumni kluba ZVU\, predsjednik kluba upućuje poziv za Izbornu skupštinu AKZVU-a koja će se održati u ponedjeljak 10. srpnja 2017. s početkom u 13\,00 sati na Zdravstvenom veleučilištu Mlinarska cesta 38.
URL:https://www.akzvu.hr/dogadaj/poziv-na-izbornu-skupstinu/
LOCATION:Zdravstveno veleučilište (Dvorana 301\, Ksaver 209)\, Ksaver 209\, Zagreb\, 10000\, Croatia (Local Name: Hrvatska)
CATEGORIES:Događaji
ORGANIZER;CN="AKZVU":MAILTO:alumni@akzvu.hr
END:VEVENT
END:VCALENDAR