BEGIN:VCALENDAR
VERSION:2.0
PRODID:-//Alumni Zdravstvenog veleučilišta - ECPv6.15.18//NONSGML v1.0//EN
CALSCALE:GREGORIAN
METHOD:PUBLISH
X-WR-CALNAME:Alumni Zdravstvenog veleučilišta
X-ORIGINAL-URL:https://www.akzvu.hr
X-WR-CALDESC:Događanja za mjesec: Alumni Zdravstvenog veleučilišta
REFRESH-INTERVAL;VALUE=DURATION:PT1H
X-Robots-Tag:noindex
X-PUBLISHED-TTL:PT1H
BEGIN:VTIMEZONE
TZID:Europe/Zagreb
BEGIN:DAYLIGHT
TZOFFSETFROM:+0100
TZOFFSETTO:+0200
TZNAME:CEST
DTSTART:20170326T010000
END:DAYLIGHT
BEGIN:STANDARD
TZOFFSETFROM:+0200
TZOFFSETTO:+0100
TZNAME:CET
DTSTART:20171029T010000
END:STANDARD
BEGIN:DAYLIGHT
TZOFFSETFROM:+0100
TZOFFSETTO:+0200
TZNAME:CEST
DTSTART:20180325T010000
END:DAYLIGHT
BEGIN:STANDARD
TZOFFSETFROM:+0200
TZOFFSETTO:+0100
TZNAME:CET
DTSTART:20181028T010000
END:STANDARD
BEGIN:DAYLIGHT
TZOFFSETFROM:+0100
TZOFFSETTO:+0200
TZNAME:CEST
DTSTART:20190331T010000
END:DAYLIGHT
BEGIN:STANDARD
TZOFFSETFROM:+0200
TZOFFSETTO:+0100
TZNAME:CET
DTSTART:20191027T010000
END:STANDARD
BEGIN:DAYLIGHT
TZOFFSETFROM:+0100
TZOFFSETTO:+0200
TZNAME:CEST
DTSTART:20200329T010000
END:DAYLIGHT
BEGIN:STANDARD
TZOFFSETFROM:+0200
TZOFFSETTO:+0100
TZNAME:CET
DTSTART:20201025T010000
END:STANDARD
BEGIN:DAYLIGHT
TZOFFSETFROM:+0100
TZOFFSETTO:+0200
TZNAME:CEST
DTSTART:20210328T010000
END:DAYLIGHT
BEGIN:STANDARD
TZOFFSETFROM:+0200
TZOFFSETTO:+0100
TZNAME:CET
DTSTART:20211031T010000
END:STANDARD
BEGIN:DAYLIGHT
TZOFFSETFROM:+0100
TZOFFSETTO:+0200
TZNAME:CEST
DTSTART:20220327T010000
END:DAYLIGHT
BEGIN:STANDARD
TZOFFSETFROM:+0200
TZOFFSETTO:+0100
TZNAME:CET
DTSTART:20221030T010000
END:STANDARD
BEGIN:DAYLIGHT
TZOFFSETFROM:+0100
TZOFFSETTO:+0200
TZNAME:CEST
DTSTART:20230326T010000
END:DAYLIGHT
BEGIN:STANDARD
TZOFFSETFROM:+0200
TZOFFSETTO:+0100
TZNAME:CET
DTSTART:20231029T010000
END:STANDARD
BEGIN:DAYLIGHT
TZOFFSETFROM:+0100
TZOFFSETTO:+0200
TZNAME:CEST
DTSTART:20240331T010000
END:DAYLIGHT
BEGIN:STANDARD
TZOFFSETFROM:+0200
TZOFFSETTO:+0100
TZNAME:CET
DTSTART:20241027T010000
END:STANDARD
BEGIN:DAYLIGHT
TZOFFSETFROM:+0100
TZOFFSETTO:+0200
TZNAME:CEST
DTSTART:20250330T010000
END:DAYLIGHT
BEGIN:STANDARD
TZOFFSETFROM:+0200
TZOFFSETTO:+0100
TZNAME:CET
DTSTART:20251026T010000
END:STANDARD
END:VTIMEZONE
BEGIN:VEVENT
DTSTART;TZID=Europe/Zagreb:20240527T160000
DTEND;TZID=Europe/Zagreb:20240527T173000
DTSTAMP:20260420T205814
CREATED:20240510T103405Z
LAST-MODIFIED:20240510T103405Z
UID:8000-1716825600-1716831000@www.akzvu.hr
SUMMARY:Program osiguranja kvalitete u dijagnostičkoj i intervencijskoj radiologiji u KBC-u Zagreb
DESCRIPTION:Poštovani članovi\, \nzadovoljstvo nam je pozvati vas na Alumni edukaciju na temu Program osiguranja kvalitete u dijagnostičkoj i intervencijskoj radiologiji u KBC-u Zagreb\, koja će se održati u ponedjeljak\, 27. svibnja 2024. u 16.00 sati\, uživo u prostorima Zdravstvenog veleučilišta\, Mlinarska cesta 38\, Dvorana 111.\n \nBodovanje stručnih Komora \nSkup je prijavljen za bodovanje nadležnim komorama: HKMS\, HKF. Sudionici prisutni u dvorani će na zahtjev zaprimiti potvrde o sudjelovanju. \nNačin sudjelovanja \nČlanovi koji skupu žele nazočiti uživo u prostorima Zdravstvenog veleučilišta\, ulaznicu mogu rezervirati putem obrasca u nastavku. Zainteresirani sudionici koji nisu Alumni članovi te studenti\, ovisno o broju raspoloživih mjesta\, ulaznicu mogu rezervirati putem posebnog obrasca. \nProgram \n\n\n\n15.45 – 16.00\nRegistracija sudionika\n\n\n16.00 – 16.10\nPozdravni govor i otvorenje skupa\nBoris ILIĆ\, mag.med.techn.\, pred.\, dopredsjednik AKZVU\nMargareta BEGIĆ\, dipl.physioth.\, voditeljica strukovnog razreda Fizioterapije\nŽeljka Lubina\, bacc. rad. tehn.\, Voditelj SR radiološke tehnologije AKZVU\n\n\n16.10 – 16.30\nŠto je Program osiguranja kvalitete\nAna Buinac\, dipl. ing. fizike\, medicinski fizičar\nKatarina Ružić\, dipl. ing. fizike\, medicinski fizičar\n\n\n16.30 – 16.50\nKontrola kvalitete i prijava incidenata\nAna Buinac\, dipl. ing. fizike\, medicinski fizičar\nKatarina Ružić\, dipl. ing. fizike\, medicinski fizičar\n\n\n16.50 – 17.10\nOptimizacija\nAna Buinac\, dipl. ing. fizike\, medicinski fizičar\nKatarina Ružić\, dipl. ing. fizike\, medicinski fizičar\n\n\n17.10- 17.30\nDiskusija i zatvaranje skupa
URL:https://www.akzvu.hr/dogadaj/program-osiguranja-kvalitete-u-dijagnostickoj-i-intervencijskoj-radiologiji-u-kbc-u-zagreb/
LOCATION:Zdravstveno veleučilište (Dvorana 111\, Mlinarska 38)\, Mlinarska cesta 38\, Dvorana 111\, Zagreb\, 10000\, Croatia (Local Name: Hrvatska)
CATEGORIES:Događaji,Edukacije
ATTACH;FMTTYPE=image/png:https://www.akzvu.hr/wp-content/uploads/2024/05/thumbnail_Facebook-dogadaji-–-kopija.png
ORGANIZER;CN="AKZVU":MAILTO:alumni@akzvu.hr
END:VEVENT
BEGIN:VEVENT
DTSTART;TZID=Europe/Zagreb:20230220T160000
DTEND;TZID=Europe/Zagreb:20230220T173000
DTSTAMP:20260420T205814
CREATED:20230213T130312Z
LAST-MODIFIED:20230213T130905Z
UID:6848-1676908800-1676914200@www.akzvu.hr
SUMMARY:Radiokirurško liječenje primarnih i sekundarnih tumora
DESCRIPTION:Poštovani članovi\, \nzadovoljstvo nam je pozvati Vas na Alumni simpozij na temu Radiokirurško liječenje primarnih i sekundarnih tumora\, uz prikaz najnaprednijih radiokirurških tehnika\, koji će se održati u ponedjeljak\, 20. veljače 2023. od 16.00 sati\, uživo u prostorima Zdravstvenog veleučilišta\, Ksaver 209\, Dvorana 303. \nBodovanje stručnih Komora \nSudionici prisutni u dvorani imati će mogućnost upisa na evidencijske liste HKZR te će na zahtjev zaprimiti potvrde o sudjelovanju temeljem kojih mogu i naknadno zatražiti bodovanje nadležnih komora. \nNačin sudjelovanja \nČlanovi koji skupu žele nazočiti uživo u prostorima Zdravstvenog veleučilišta\, ulaznicu mogu rezervirati putem obrasca u nastavku. Zainteresirani sudionici koji nisu Alumni članovi te studenti\, ovisno o broju raspoloživih mjesta\, ulaznicu mogu rezervirati putem posebnog obrasca. \nProgram \n\n\n\n15.45 – 16.00\nRegistracija sudionika\n\n\n16.00 – 16.10\nPozdravni govor i otvorenje skupa\nMargareta Begić\, dipl.physioth.\, tajnica AKZVU\nŽeljka Lubina\, bacc. rad. technol.\, voditelj SR ZRTD AKZVU\n\n\n16.10 – 16.25\nRadiokirurško liječenje primarnih i sekundarnih tumora\, uz prikaz najnaprednijih radiokirurških tehnika na primjeru primarnog raka gušterače\nDr. sc. Hrvoje Kaučić. dr. med.\, spec. radioterapije i onkologije\n\n\n16.25 – 16.40\nUloga medicinskog fizičara u radiokirurškom liječenju primarnih i sekundarnih tumora\, uz prikaz najnaprednijih radiokirurških tehnika na primjeru primarnog raka gušterače \nDomagoj Kosmina\, dipl. ing. fizike\, medicinski fizičar\n\n\n16.40 – 16.55\nUloga radiološkog tehnologa u radiokirurškom liječenju primarnih i sekundarnih tumora\, uz prikaz najnaprednijih radiokirurških tehnika na primjeru primarnog raka gušterače\nSanja Brezovec\, bacc. rad. tehn\,\, Marica Keser\, bacc. rad. tehn.\n\n\n16.55 – 17.30\nDiskusija i zatvaranje skupa\n\n\n\n 
URL:https://www.akzvu.hr/dogadaj/radiokirursko-lijecenje-primarnih-i-sekundarnih-tumora/
LOCATION:Zdravstveno veleučilište (Ksaver 209\, D303)\, Ksaver 209\, Zagreb\, 10000\, Croatia (Local Name: Hrvatska)
CATEGORIES:Događaji,Edukacije
ATTACH;FMTTYPE=image/png:https://www.akzvu.hr/wp-content/uploads/2023/02/5C6C64DE-E6E1-4611-9245-584E298E3E4A.png
ORGANIZER;CN="AKZVU":MAILTO:alumni@akzvu.hr
END:VEVENT
BEGIN:VEVENT
DTSTART;TZID=Europe/Zagreb:20221212T161500
DTEND;TZID=Europe/Zagreb:20221212T173000
DTSTAMP:20260420T205814
CREATED:20221207T125007Z
LAST-MODIFIED:20221207T125007Z
UID:6677-1670861700-1670866200@www.akzvu.hr
SUMMARY:Nuklearno-medicinske metode u dijagnostici neurodegenerativnih bolesti
DESCRIPTION:Poštovani članovi\, \nzadovoljstvo nam je pozvati Vas na Alumni simpozij na temu Nuklearno-medicinske metode u dijagnostici neurodegenerativnih bolesti\, koji će se održati u ponedjeljak\, 12. prosinca 2022. od 16.15 sati\, uživo u prostorima Zdravstvenog veleučilišta\, Ksaver 209\, Dvorana 303. Događaj će biti u izravnom prijenosu i putem kanala društvenih mreža. \nBodovanje stručnih Komora \nSudionici prisutni u dvorani imati će mogućnost upisa na evidencijske liste HKZR te će zaprimiti potvrde o sudjelovanju temeljem kojih mogu i naknadno zatražiti bodovanje nadležnih komora. Praćenje događaja u prijenosu uživo putem kanala društvenih mreža nije moguće bodovati. \nNačin sudjelovanja \nČlanovi koji skupu žele nazočiti uživo u prostorima Zdravstvenog veleučilišta\, ulaznicu mogu rezervirati putem obrasca u nastavku. Zainteresirani sudionici koji nisu Alumni članovi te studenti\, ovisno o broju raspoloživih mjesta\, ulaznicu mogu rezervirati putem posebnog obrasca. \nDogađaj je moguće pratiti u izravnom prijenosu online\, za koji nije potrebno rezervirati ulaznicu. \n  \nProgram \n\n\n\n16.00 – 16.15\nRegistracija sudionika\n\n\n16.15 – 16.25\nPozdravni govor i otvorenje skupa\nBoris Ilić\, mag.med.techn.\, dopredsjednik AKZVU\nŽeljka Lubina\, bacc. rad. techn.\, voditelj SR ZRTD AKZVU\n\n\n16.25 – 16.40\nDemencije – izazov 21. stoljeća\nProf.dr.sc. Zlatko Trkanjec\, dr. med\n\n\n\n16.40 – 16.55\nNuklearna medicina u dijagnostici neurodegenerativnih bolesti\nDr.sc.Ines Šiško Markoš\, dr.med\n\n\n\n16.55 – 17.10\nNuklearna medicina u dijagnostici neurodegenerativnih bolesti – tehnološki aspekti\nMatej Butigan\, bacc.radiol.tech.\n\n\n\n17.10 – 17.30\nDiskusija i zatvaranje skupa\n\n\n\n 
URL:https://www.akzvu.hr/dogadaj/nuklearno-medicinske-metode-u-dijagnostici-neurodegenerativnih-bolesti/
LOCATION:Zdravstveno veleučilište (Ksaver 209\, D303)\, Ksaver 209\, Zagreb\, 10000\, Croatia (Local Name: Hrvatska)
CATEGORIES:Događaji,Edukacije
ATTACH;FMTTYPE=image/png:https://www.akzvu.hr/wp-content/uploads/2022/12/E734762A-78B7-4B06-9029-40EDE7312C93.png
ORGANIZER;CN="AKZVU":MAILTO:alumni@akzvu.hr
END:VEVENT
BEGIN:VEVENT
DTSTART;TZID=Europe/Zagreb:20220926T160000
DTEND;TZID=Europe/Zagreb:20220926T173000
DTSTAMP:20260420T205814
CREATED:20220920T151831Z
LAST-MODIFIED:20220926T073419Z
UID:6027-1664208000-1664213400@www.akzvu.hr
SUMMARY:Primjena rendgenskog zračenja u transfuzijskoj medicini
DESCRIPTION:Poštovani članovi\, \nzadovoljstvo nam je pozvati Vas na Alumni simpozij na temu Primjena rendgenskog zračenja u transfuzijskoj medicini\, koji će se održati u ponedjeljak\, 26. rujna 2022. od 16 sati\, uživo u prostorima Zdravstvenog veleučilišta\, Ksaver 209\, Dvorana 303. Događaj će biti u izravnom prijenosu i putem Zoom platforme te kanala društvenih mreža. \nBodovanje stručnih Komora \nSudionici prisutni u dvorani imati će mogućnost upisa na evidencijske liste HKZR te će zaprimiti potvrde o sudjelovanju temeljem kojih mogu i naknadno zatražiti bodovanje nadležnih komora. Praćenje događaja u prijenosu uživo putem kanala društvenih mreža nije moguće bodovati. \nNačin sudjelovanja \nČlanovi koji skupu žele nazočiti uživo u prostorima Zdravstvenog veleučilišta\, ulaznicu mogu rezervirati putem obrasca u nastavku. Zainteresirani sudionici koji nisu Alumni članovi te studenti\, ovisno o broju raspoloživih mjesta\, ulaznicu mogu rezervirati putem posebnog obrasca. \nDogađaj je moguće pratiti u izravnom prijenosu online\, za koji nije potrebno rezervirati ulaznicu: https://us06web.zoom.us/j/85223234641?pwd=WFIvR09JUDJXNUQvNkZtUHFtUGJUdz09 \n  \nProgram \n\n\n\n15.45 – 16.00\nRegistracija sudionika\n\n\n16.00 – 16.10\nPozdravni govor i otvorenje skupa\nBoris Ilić\, dipl.med.techn.\, dopredsjednik AKZVU\nŽeljka Lubina\, bacc. rad. techn.\, voditelj SR ZRTD AKZVU\n\n\n16.10 – 16.25\nTransfuzijom uzrokovana bolest presatka protiv primatelja\nMatea Vinković\, dr. med.\n\n\n16.25 – 16.40\nPrimjena rendgenskog zračenja u transfuzijskoj medicini\nŽeljka Lubina\, bacc. rad. techn.\n\n\n16.40 – 16.55\nDozimetrijski postupci za osiguranje kvalitete ozračivanja krvnih pripravaka\nTomislav Viculin\, dipl. ing.\, stručnjak za med. fiziku\n\n\n16.55 – 17.30\nDiskusija i zatvaranje skupa\n\n\n\n 
URL:https://www.akzvu.hr/dogadaj/primjena-rendgenskog-zracenja-u-transfuzijskoj-medicini/
LOCATION:Zdravstveno veleučilište (Ksaver 209\, D303)\, Ksaver 209\, Zagreb\, 10000\, Croatia (Local Name: Hrvatska)
CATEGORIES:Događaji,Edukacije
ATTACH;FMTTYPE=image/png:https://www.akzvu.hr/wp-content/uploads/2022/09/246F0E04-9EB7-4197-B135-901F5C02A91D.png
ORGANIZER;CN="AKZVU":MAILTO:alumni@akzvu.hr
END:VEVENT
BEGIN:VEVENT
DTSTART;VALUE=DATE:20220603
DTEND;VALUE=DATE:20220606
DTSTAMP:20260420T205814
CREATED:20220414T111720Z
LAST-MODIFIED:20220414T111720Z
UID:5819-1654214400-1654473599@www.akzvu.hr
SUMMARY:Radionica OKRT 8: Radiološka tehnologija – Quo vadis?
DESCRIPTION:Naziv: Radionica OKRT 8: Radiološka tehnologija – Quo vadis? \nDatum: 03. –  05. 06. 2022.\, Jezerčica\, Donja Stubica \nKotizacija član/ostali:    800/1100 kn \nTema radionice: Visoko obrazovanje radioloških tehnologa u RH \nMaksimalan broj sudionika: 60 \nCiljevi: \n\nFormalno visoko obrazovanje radioloških tehnologa:\n\n\nKoliko radiološki tehnolozi sudjeluju u izvođenju teorijske nastave?\nKoliko i kako radiološki tehnolozi sudjeluju u izvođenju praktične nastave?\nJesmo li u Republici Hrvatskoj dosegnuli prepoznatljivost profesije – profesija educira  profesiju?\nIzbori radioloških tehnologa na visokim učilištima u nastavna i znanstveno-nastavna zvanja\n\n\nStandard zanimanja i standard kvalifikacije radioloških tehnologa u RH\nKontinuirani profesionalni razvoj i cjeloživotno učenje radioloških tehnologa\n+385 91 5007351\n\n\nSudionici radionice: \n\nPredstavnici sva tri studija Radiološke tehnologije u RH\nPredavači na studijima Radiološke tehnologije u RH\nAsistenti i vanjski suradnici na studijima Radiološke tehnologije u RH (radiološki tehnolozi)\nČlanovi Alumni klubova sva tri studija Radiološke tehnologije u RH\nPredstavnici HDRT i HKZR\n\nOrganizacijski odbor: Damir Ciprić\, Andrija Čop\, Matija Hranić\, Velimir Karadža\, Maja Karić\, Branko Kovalisko\, Tatjana Matijaš\, Frane Mihanović\, Nenad Vodopija \nStručni odbor: Boris Benceković\, Ivanka Herman\, Dražen Horvatinec\, Iva Hulina\, Josip Lučić\, Josip Mamić\, Vedran Manestar\, Krunoslav Marinčević \nVIŠE INFORMACIJA I REGISTRACIJA: http://certitour.com/kongresi/2260-2/
URL:https://www.akzvu.hr/dogadaj/radionica-okrt-8-radioloska-tehnologija-quo-vadis/
LOCATION:Hotel Terme Jezerčica\, Toplička 80\, Donja Stubica\, 49240\, Croatia (Local Name: Hrvatska)
CATEGORIES:Događaji,Konferencije
ATTACH;FMTTYPE=image/jpeg:https://www.akzvu.hr/wp-content/uploads/2022/04/logo-HDRT-radionica-8.jpg
ORGANIZER;CN="Hrvatsko dru%C5%A1tvo radiolo%C5%A1e tehnlogije":MAILTO:info@hdrt.hr
END:VEVENT
BEGIN:VEVENT
DTSTART;TZID=Europe/Zagreb:20190211T170000
DTEND;TZID=Europe/Zagreb:20190211T180000
DTSTAMP:20260420T205814
CREATED:20190129T194250Z
LAST-MODIFIED:20190208T150057Z
UID:2852-1549904400-1549908000@www.akzvu.hr
SUMMARY:Osnovno održavanje života i automatska vanjska defibrilacija
DESCRIPTION:Program edukacije \n16.45 – 17.00 Prijava sudionika i ulazak u dvoranu\n17.00 – 17.10 Pozdravni govor (uprava AKZVU\, voditeljica strukovnog razreda sestrinstva) \n17.10 – 18.00 PREDAVANJE: Osnovno održavanje života i automatska vanjska defibrilacija\nGoran Stokić\, ERC ALS\, ILS i BLS instruktor\, Nastavni zavod za hitnu medicinu Grada Zagreba \n18.00 – 19.00 RADIONICA\, Dvorana 404 (prema izboru\, za sudionike koji se prijave na radionicu)\nGoran Stokić\, ERC ALS\, ILS i BLS instruktor \n18.00 – 19.00 RADIONICA\, Dvorana 405 (prema izboru\, za sudionike koji se prijave na radionicu)\nTin Gregurek\, ERC BLS i ILS provider \nOsnovno održavanje života uz uporabu automatskog vanjskog defibrilatora jedan je od prvih postupaka zbrinjavanja osobe koja je doživjela srčani zastoj. Učenje osnovnog održavanja života uz uporabu automatskog vanjskog defibrilatora (AVD) je interaktivan proces koji zahtijeva i znanje i vještine. \nSvake godine u Europi tisuće muškaraca i žena kolabira i umre od srčanog udara. Smrtni bi se ishod često mogao spriječiti kad bi se bez odgađanja započela kardiopulmonalna reanimacija (KPR). KPR je dio osnovnog održavanja života (BLS) i sastoji se od dvaju glavnih postupaka: kompresija prsnoga koša (održavanja cirkulacije krvi) i umjetnog disanja (dostave kisika plućima). \nKPR može spriječiti oštećenja vitalnih organa kao što su mozak i srce. Najčešće\, sami postupci KPR-a neće ponovno pokrenuti srce. Dobro izvođenje KPR-a (posebice kompresija prsnoga koša) povećava uspješnost kasnije primijenjene defibrilacije. \nŠto je automatski vanjski defibrilator (AVD)?\nIznenadni srčani zastoj najčešće nastaje kao posljedica prijelaska u kaotični ritam koji se naziva „ventrikulska fibrilacija“. Automatski vanjski defibrilator (AVD) je uređaj koji može isporučiti kontrolirani električni šok na srce\, prekinuti ventrikulsku fibrilaciju i ponovno uspostaviti srčanu funkciju.
URL:https://www.akzvu.hr/dogadaj/osnovno-odrzavanje-zivota-i-automatska-vanjska-defibrilacija/
LOCATION:Zdravstveno veleučilište (Ksaver 196a\, Dvorana 404)\, Ksaver 196a\, Zagreb\, Hrvatska\, 10000\, Croatia (Local Name: Hrvatska)
CATEGORIES:Događaji,Edukacije
ATTACH;FMTTYPE=image/jpeg:https://www.akzvu.hr/wp-content/uploads/2019/01/IMG_8675.jpg
ORGANIZER;CN="AKZVU":MAILTO:alumni@akzvu.hr
END:VEVENT
BEGIN:VEVENT
DTSTART;TZID=Europe/Zagreb:20181114T160000
DTEND;TZID=Europe/Zagreb:20181114T180000
DTSTAMP:20260420T205814
CREATED:20181017T102619Z
LAST-MODIFIED:20181022T160756Z
UID:2516-1542211200-1542218400@www.akzvu.hr
SUMMARY:Tehnike ublažavanja stresa prilikom izvođenja radioloških pretraga
DESCRIPTION:Kako bi pacijent bio pripremljen za radiološku pretragu\, potrebno je osigurati najbolju moguću fizičku\, psihološku\, socijalna i duhovnu spremnost. Prije pretrage kod pacijenta su prisutni različiti osjećaji\, a često i strah. Strah da neće znati što se s njim događa\, tko i što ga čeka u snimaonici\, strah od ishoda pretrage te daljnjeg liječenja. Strah je izraženiji i dublji kada pacijent nije na pravi način upoznat s onim što ga čeka. \nPotreba za radiološkom pretragom kod pacijenta može izazvati nekoliko normalnih i abnormalnih emocionalnih reakcija\, stoga je od velike važnosti ozbiljno pristupiti psihološkoj pripremi pacijenta za radiološku pretragu. Pacijent mora osjećati potpuno povjerenje u osoblje koje sudjeluje u njegovu liječenju. Neizostavnu ulogu u pripremi pacijenata za radiološke pretrage\, ima radiološki tehnolog koji već kod prvog kontakta s pacijentom\, promatrajući ga\, nalazi mnogo načina kojima može pomoći pacijentu da se ugodnije osjeća. \nCilj predavanja je podsjetiti radiološke tehnologe i druge profesije koje sudjeluju u radiološkim postupcima na važnost dobre pripreme pacijenta i tehnike kojim se stres izazvan samom potrebom za tim postupcima može znatno umanjiti\, a na taj način izbjeći neugodne situacije kako za pacijenta tako i za osoblje. \nPredavanje je koncipirano u tri dijela. \nPrvi i uvodni dio će nas uvesti i podsjetiti na neke od najneugodnijih pretraga za pacijenta. Drugi dio predavanja će održati prof. Pukljak Iričanin s Katedre za zdravstvenu psihologiju Zdravstvenog veleučilišta u Zagrebu. U trećem dijelu ćemo čuti iskustva Sandre Spudić\, bacc. rad. techn.\, zaposlenice u jednom privatnom dijagnostičkom centru. \nPredavanje će biti bodovano sukladno Pravilniku o sadržaju\, rokovima i postupku provjere stručnosti zdravstvenih radnika iz zdravstvene radiološko tehnološke djelatnosti te HKMS.
URL:https://www.akzvu.hr/dogadaj/tehnike-ublazavanja-stresa-prilikom-izvodenja-radioloskih-pretraga/
LOCATION:Zdravstveno veleučilište (Dvorana 6)\, Mlinarska cesta 38\, Zagreb\, 10000\, Croatia (Local Name: Hrvatska)
CATEGORIES:Događaji,Edukacije
ATTACH;FMTTYPE=image/jpeg:https://www.akzvu.hr/wp-content/uploads/2018/10/Photo-17-10-2018-12-14-33.jpg
ORGANIZER;CN="AKZVU":MAILTO:alumni@akzvu.hr
END:VEVENT
END:VCALENDAR