BEGIN:VCALENDAR
VERSION:2.0
PRODID:-//Alumni Zdravstvenog veleučilišta - ECPv6.15.18//NONSGML v1.0//EN
CALSCALE:GREGORIAN
METHOD:PUBLISH
X-WR-CALNAME:Alumni Zdravstvenog veleučilišta
X-ORIGINAL-URL:https://www.akzvu.hr
X-WR-CALDESC:Događanja za mjesec: Alumni Zdravstvenog veleučilišta
REFRESH-INTERVAL;VALUE=DURATION:PT1H
X-Robots-Tag:noindex
X-PUBLISHED-TTL:PT1H
BEGIN:VTIMEZONE
TZID:Europe/Zagreb
BEGIN:DAYLIGHT
TZOFFSETFROM:+0100
TZOFFSETTO:+0200
TZNAME:CEST
DTSTART:20160327T010000
END:DAYLIGHT
BEGIN:STANDARD
TZOFFSETFROM:+0200
TZOFFSETTO:+0100
TZNAME:CET
DTSTART:20161030T010000
END:STANDARD
BEGIN:DAYLIGHT
TZOFFSETFROM:+0100
TZOFFSETTO:+0200
TZNAME:CEST
DTSTART:20170326T010000
END:DAYLIGHT
BEGIN:STANDARD
TZOFFSETFROM:+0200
TZOFFSETTO:+0100
TZNAME:CET
DTSTART:20171029T010000
END:STANDARD
BEGIN:DAYLIGHT
TZOFFSETFROM:+0100
TZOFFSETTO:+0200
TZNAME:CEST
DTSTART:20180325T010000
END:DAYLIGHT
BEGIN:STANDARD
TZOFFSETFROM:+0200
TZOFFSETTO:+0100
TZNAME:CET
DTSTART:20181028T010000
END:STANDARD
BEGIN:DAYLIGHT
TZOFFSETFROM:+0100
TZOFFSETTO:+0200
TZNAME:CEST
DTSTART:20190331T010000
END:DAYLIGHT
BEGIN:STANDARD
TZOFFSETFROM:+0200
TZOFFSETTO:+0100
TZNAME:CET
DTSTART:20191027T010000
END:STANDARD
BEGIN:DAYLIGHT
TZOFFSETFROM:+0100
TZOFFSETTO:+0200
TZNAME:CEST
DTSTART:20200329T010000
END:DAYLIGHT
BEGIN:STANDARD
TZOFFSETFROM:+0200
TZOFFSETTO:+0100
TZNAME:CET
DTSTART:20201025T010000
END:STANDARD
END:VTIMEZONE
BEGIN:VEVENT
DTSTART;TZID=Europe/Zagreb:20190211T170000
DTEND;TZID=Europe/Zagreb:20190211T180000
DTSTAMP:20260422T122305
CREATED:20190129T194250Z
LAST-MODIFIED:20190208T150057Z
UID:2852-1549904400-1549908000@www.akzvu.hr
SUMMARY:Osnovno održavanje života i automatska vanjska defibrilacija
DESCRIPTION:Program edukacije \n16.45 – 17.00 Prijava sudionika i ulazak u dvoranu\n17.00 – 17.10 Pozdravni govor (uprava AKZVU\, voditeljica strukovnog razreda sestrinstva) \n17.10 – 18.00 PREDAVANJE: Osnovno održavanje života i automatska vanjska defibrilacija\nGoran Stokić\, ERC ALS\, ILS i BLS instruktor\, Nastavni zavod za hitnu medicinu Grada Zagreba \n18.00 – 19.00 RADIONICA\, Dvorana 404 (prema izboru\, za sudionike koji se prijave na radionicu)\nGoran Stokić\, ERC ALS\, ILS i BLS instruktor \n18.00 – 19.00 RADIONICA\, Dvorana 405 (prema izboru\, za sudionike koji se prijave na radionicu)\nTin Gregurek\, ERC BLS i ILS provider \nOsnovno održavanje života uz uporabu automatskog vanjskog defibrilatora jedan je od prvih postupaka zbrinjavanja osobe koja je doživjela srčani zastoj. Učenje osnovnog održavanja života uz uporabu automatskog vanjskog defibrilatora (AVD) je interaktivan proces koji zahtijeva i znanje i vještine. \nSvake godine u Europi tisuće muškaraca i žena kolabira i umre od srčanog udara. Smrtni bi se ishod često mogao spriječiti kad bi se bez odgađanja započela kardiopulmonalna reanimacija (KPR). KPR je dio osnovnog održavanja života (BLS) i sastoji se od dvaju glavnih postupaka: kompresija prsnoga koša (održavanja cirkulacije krvi) i umjetnog disanja (dostave kisika plućima). \nKPR može spriječiti oštećenja vitalnih organa kao što su mozak i srce. Najčešće\, sami postupci KPR-a neće ponovno pokrenuti srce. Dobro izvođenje KPR-a (posebice kompresija prsnoga koša) povećava uspješnost kasnije primijenjene defibrilacije. \nŠto je automatski vanjski defibrilator (AVD)?\nIznenadni srčani zastoj najčešće nastaje kao posljedica prijelaska u kaotični ritam koji se naziva „ventrikulska fibrilacija“. Automatski vanjski defibrilator (AVD) je uređaj koji može isporučiti kontrolirani električni šok na srce\, prekinuti ventrikulsku fibrilaciju i ponovno uspostaviti srčanu funkciju.
URL:https://www.akzvu.hr/dogadaj/osnovno-odrzavanje-zivota-i-automatska-vanjska-defibrilacija/
LOCATION:Zdravstveno veleučilište (Ksaver 196a\, Dvorana 404)\, Ksaver 196a\, Zagreb\, Hrvatska\, 10000\, Croatia (Local Name: Hrvatska)
CATEGORIES:Događaji,Edukacije
ATTACH;FMTTYPE=image/jpeg:https://www.akzvu.hr/wp-content/uploads/2019/01/IMG_8675.jpg
ORGANIZER;CN="AKZVU":MAILTO:alumni@akzvu.hr
END:VEVENT
BEGIN:VEVENT
DTSTART;VALUE=DATE:20181116
DTEND;VALUE=DATE:20181119
DTSTAMP:20260422T122305
CREATED:20180922T095811Z
LAST-MODIFIED:20181020T161136Z
UID:2423-1542326400-1542585599@www.akzvu.hr
SUMMARY:FUTUR-Z Zdravlje i zdravstvena zaštita 2018.
DESCRIPTION:Poštovane kolegice i kolege\, \nČast mi je i zadovoljstvo objaviti kako se i ove godine održava kongres s međunarodnim sudjelovanjem „Zdravlje i zdravstvena zaštita 2015 -2030 Futur Z “ u organizaciji Hrvatskog društva za poslovnu etiku i zdravstvenu ekonomiku Hrvatskog liječničkog zbora . \nKongres će se održati u terminu  od 16. – 18. 11 . 2018. u Opatiji\, u kongresnom centru hotela Royal. \nMisao vodilja projekta i platforme Futur Z je organizirati jedinstveni događaj u  Republici Hrvatskoj i regiji koji okuplja sve neposredne dionike zdravstvenog sustava – liječnike \, medicinske stručnjake\, zdravstvene djelatnike\, medicinske sestre i predstavnike javnog zdravstvenog sustava. \nCilj je omogućiti interakciju i direktni kontakt sa  predstavnicima zdravstvene administracije \, državnih institucija\, sektora zdravstvenog osiguranja\, farmaceutskom industrijom\, predstavnicima strukovnih komora\, stručnih udruga vezanih uz zdravstvenu djelatnost \, IT sektorom \, udrugama pacijenata  ali i medijima koji su zastupljeni u velikom broju i izuzetno bitni zbog senzibilizacije javnosti . \nSamo jasna strategija razvoja zdravstvenog sustava uz sinergiju svih dionika donijeti će maksimalnu korist i skrb za pacijente\, održivi zdravstveni sustav i racionalizaciju postupaka . \nSmatramo da je sinergija među svim tim sektorima u zdravstvenom sustavu izuzetno važna\, i da se o smjeru razvoja mora  donijeti jasna strategija i konsenzus za slijedećih 10 – 15 godina. \nKongres FUTUR Z  organiziran je svake godine do sada pod pokroviteljstvom ureda  Predsjednice Republike Hrvatske\, Ministarstva zdravstva \, Hrvatske liječničke komore\, Hrvatskog zavoda za zdravstveno osiguranje\, Koordinacije hrvatske obiteljske medicine ( KoHOM ) \,Hrvatske udruge bolničkih liječnika ( HUBOL) \,većine udruga primarne zdravstvene zaštite\, Hrvatskog zavoda za javno zdravstvo \, Hrvatske udruge poslodavaca ( HUP) \, Američke gospodarske komore u Hrvatskoj (Am Cham)\, Inovativne farmaceutske inicijative ( iF!) \, Hrvatske komore medicinskih sestara \, Hrvatske ljekarničke komore \, Hrvatskog farmaceutskog društva \, i niz važnih udruga i kompanija . \nuniv.mag. Željko Rotim\, dr. dent med.\nPredsjednik Hrvatskog društva za poslovnu etiku i zdravstvenu ekonomiku\nHRVATSKOG LIJEČNIČKOG ZBORA \n>> OSVOJI BESPLATNU KOTIZACIJU <<
URL:https://www.akzvu.hr/dogadaj/futur-z-zdravlje-i-zdravstvena-zastita-2018/
LOCATION:Hotel Royal Opatija\, Ulica Viktora Cara Emina 10\, Opatija\, 51410\, Croatia (Local Name: Hrvatska)
CATEGORIES:Događaji,Konferencije
ATTACH;FMTTYPE=image/jpeg:https://www.akzvu.hr/wp-content/uploads/2018/09/30742654_1921108841232645_8206812333691895808_n.jpg
END:VEVENT
BEGIN:VEVENT
DTSTART;TZID=Europe/Zagreb:20181114T160000
DTEND;TZID=Europe/Zagreb:20181114T180000
DTSTAMP:20260422T122305
CREATED:20181017T102619Z
LAST-MODIFIED:20181022T160756Z
UID:2516-1542211200-1542218400@www.akzvu.hr
SUMMARY:Tehnike ublažavanja stresa prilikom izvođenja radioloških pretraga
DESCRIPTION:Kako bi pacijent bio pripremljen za radiološku pretragu\, potrebno je osigurati najbolju moguću fizičku\, psihološku\, socijalna i duhovnu spremnost. Prije pretrage kod pacijenta su prisutni različiti osjećaji\, a često i strah. Strah da neće znati što se s njim događa\, tko i što ga čeka u snimaonici\, strah od ishoda pretrage te daljnjeg liječenja. Strah je izraženiji i dublji kada pacijent nije na pravi način upoznat s onim što ga čeka. \nPotreba za radiološkom pretragom kod pacijenta može izazvati nekoliko normalnih i abnormalnih emocionalnih reakcija\, stoga je od velike važnosti ozbiljno pristupiti psihološkoj pripremi pacijenta za radiološku pretragu. Pacijent mora osjećati potpuno povjerenje u osoblje koje sudjeluje u njegovu liječenju. Neizostavnu ulogu u pripremi pacijenata za radiološke pretrage\, ima radiološki tehnolog koji već kod prvog kontakta s pacijentom\, promatrajući ga\, nalazi mnogo načina kojima može pomoći pacijentu da se ugodnije osjeća. \nCilj predavanja je podsjetiti radiološke tehnologe i druge profesije koje sudjeluju u radiološkim postupcima na važnost dobre pripreme pacijenta i tehnike kojim se stres izazvan samom potrebom za tim postupcima može znatno umanjiti\, a na taj način izbjeći neugodne situacije kako za pacijenta tako i za osoblje. \nPredavanje je koncipirano u tri dijela. \nPrvi i uvodni dio će nas uvesti i podsjetiti na neke od najneugodnijih pretraga za pacijenta. Drugi dio predavanja će održati prof. Pukljak Iričanin s Katedre za zdravstvenu psihologiju Zdravstvenog veleučilišta u Zagrebu. U trećem dijelu ćemo čuti iskustva Sandre Spudić\, bacc. rad. techn.\, zaposlenice u jednom privatnom dijagnostičkom centru. \nPredavanje će biti bodovano sukladno Pravilniku o sadržaju\, rokovima i postupku provjere stručnosti zdravstvenih radnika iz zdravstvene radiološko tehnološke djelatnosti te HKMS.
URL:https://www.akzvu.hr/dogadaj/tehnike-ublazavanja-stresa-prilikom-izvodenja-radioloskih-pretraga/
LOCATION:Zdravstveno veleučilište (Dvorana 6)\, Mlinarska cesta 38\, Zagreb\, 10000\, Croatia (Local Name: Hrvatska)
CATEGORIES:Događaji,Edukacije
ATTACH;FMTTYPE=image/jpeg:https://www.akzvu.hr/wp-content/uploads/2018/10/Photo-17-10-2018-12-14-33.jpg
ORGANIZER;CN="AKZVU":MAILTO:alumni@akzvu.hr
END:VEVENT
BEGIN:VEVENT
DTSTART;VALUE=DATE:20181025
DTEND;VALUE=DATE:20181029
DTSTAMP:20260422T122305
CREATED:20180306T093348Z
LAST-MODIFIED:20180306T093819Z
UID:2225-1540425600-1540771199@www.akzvu.hr
SUMMARY:13. Svjetski kongres sestara intenzivne skrbi (WFCCN\, UINARS) u Beogradu
DESCRIPTION:Dear Colleagues\, \nOn behalf of the World federation of critical care nurses (WfCCN) and the Serbian Nurses Society of Intensive Care\, Anesthesia and Reanimation (UINARS)\, it is our great pleasure to invite you to attend the inspiring World Congress which became the main point in the critical care nursing calendar. The 13th WfCCN & 10th UINARS Congress will be held in the vibrant and cosmopolitan city of Belgrade\, Serbia\, during 25-28th October 2018. \nThe aim of this international event is to provide participants rich and stimulating congress experience reflecting the strength of the collaboration and motivation of nurses working with critically ill patients. \nPerhaps more important aim of the Congress is to build new and enhance existing international networks\, exchange ideas\, experiences\, and knowledge to advance our World critical care nursing profession. \nIn addition to the promising and incentive professional program\, the city of Belgrade\, as one of the oldest citi es in Europe\, has remained a vibrant\, lively and culturally rich location worth visiting. \nLooking forward to welcoming you in Belgrade.
URL:https://www.akzvu.hr/dogadaj/13-svjetski-kongres-sestara-intenzivne-skrbi-wfccn-uinars-beogradu/
LOCATION:Sava Centar\, Belgrade\, Serbia\, Milentija Popovića 9\, Beograd\, 11070\, Serbia
CATEGORIES:Događaji,Konferencije
ATTACH;FMTTYPE=image/jpeg:https://www.akzvu.hr/wp-content/uploads/2018/03/wfccn-bg.jpg
ORGANIZER;CN="WFCCN":MAILTO:info@wfccn.org
END:VEVENT
BEGIN:VEVENT
DTSTART;TZID=Europe/Zagreb:20181003T170000
DTEND;TZID=Europe/Zagreb:20181003T180000
DTSTAMP:20260422T122305
CREATED:20180917T221147Z
LAST-MODIFIED:20181002T220958Z
UID:2415-1538586000-1538589600@www.akzvu.hr
SUMMARY:Cerebralno oštećenje vida u dječjoj dobi
DESCRIPTION:Ovoga puta vas pozivamo da nam se pridružite na predavanju koje će održati magistra edukacijske rehabilitacije i stručnjakinja za vid Snježana Seitz te magistra fizioterapije Jaminka Gagula iz Malog doma Zagreb\, vodećeg centra za djecu i mlade s višestrukim poteškoćama i oštećenjem vida. \nKako i zašto nastaje i koje su to ozljede mozga koje mogu dovesti do cerebralnog oštećenja vida samo su neka od pitanja na koje ćete dobiti odgovor. Planirani su različiti prikazi video isječaka djece kod koje se sumnja na cerebralno oštećenje vida kako bi i vi sami mogli napraviti procjenu i isplanirati daljnju skrb. \nPredavanje je namijenjeno svim zdravstvenim profilima i u potpunosti je besplatno. Broj mjesta je ograničen stoga molimo da se na vrijeme ubilježite na adresi: https://goo.gl/forms/lF5xdU5o829KUk982 \nDatum održavanja: 03.10.2018.\nVrijeme: 17.00 – 18.00\nMjesto: Zdravstveno veleučilište\, Ksaver 196a (pokraj Ministarstva zdravstva)\, Dvorana 404 \nPredavanje će biti bodovano sukladno Pravilniku o sadržaju\, rokovima i postupku trajnog-stručnog usavršavanja i provjere stručnosti medicinskih sestara
URL:https://www.akzvu.hr/dogadaj/cerebralno-ostecenje-vida-u-djecjoj-dobi/
LOCATION:Zdravstveno veleučilište (Ksaver 196a\, Dvorana 404)\, Ksaver 196a\, Zagreb\, Hrvatska\, 10000\, Croatia (Local Name: Hrvatska)
CATEGORIES:Događaji,Edukacije
ATTACH;FMTTYPE=image/jpeg:https://www.akzvu.hr/wp-content/uploads/2018/09/Photo-25-09-2018-11-11-42.jpg
ORGANIZER;CN="AKZVU":MAILTO:alumni@akzvu.hr
END:VEVENT
BEGIN:VEVENT
DTSTART;VALUE=DATE:20180523
DTEND;VALUE=DATE:20180527
DTSTAMP:20260422T122305
CREATED:20180202T093157Z
LAST-MODIFIED:20180211T144429Z
UID:1968-1527033600-1527379199@www.akzvu.hr
SUMMARY:24. Dani psihijatrijskog društva HUMS-a
DESCRIPTION:Veliko nam je zadovoljstvo i čast pozvati Vas u ime Psihijatrijskog društva HUMS-a na “Međunarodni kongres – 24. Dani psihijatrijskog društva HUMS-a” koji će se ove godine održati od 23. do 26.5.2018. u Hotelu Adriatic-Ilirija hoteli\, Biograd na moru.
URL:https://www.akzvu.hr/dogadaj/24-dani-psihijatrijskog-drustva-hums-a/
LOCATION:Hotel Adriatic\, Biograd n/m\, Tina Ujevića 2\, Biograd\, 23210\, Croatia (Local Name: Hrvatska)
CATEGORIES:Konferencije
ATTACH;FMTTYPE=image/png:https://www.akzvu.hr/wp-content/uploads/2018/02/cc2839ac-6233-4f8f-878c-0d7a2b6dfeb4.png
ORGANIZER;CN="Psihijatrijsko dru%C5%A1tvo HUMS":MAILTO:thorcicka@gmail.com
END:VEVENT
BEGIN:VEVENT
DTSTART;VALUE=DATE:20180419
DTEND;VALUE=DATE:20180423
DTSTAMP:20260422T122305
CREATED:20180202T092135Z
LAST-MODIFIED:20180211T144349Z
UID:1955-1524096000-1524441599@www.akzvu.hr
SUMMARY:11. Međunarodni kongres HDMSARIST
DESCRIPTION:Izuzetno nam je zadovoljstvo što Vas ispred Hrvatskog društva medicinskih sestara anestezije\, reanimacije\, intenzivne skrbi i transfuzije možemo pozvati na 11. međunarodni kongres koji se održava 19. – 22. travnja 2018. godine u hotelima Solaris u Šibeniku.
URL:https://www.akzvu.hr/dogadaj/11-medunarodni-kongres-hdmsarist/
LOCATION:Hotel Solaris\, Šibenik\, Hoteli Solaris 86\, Šibenik\, 22000\, Croatia (Local Name: Hrvatska)
CATEGORIES:Konferencije
ATTACH;FMTTYPE=image/png:https://www.akzvu.hr/wp-content/uploads/2018/02/babf6e70-3c85-4acf-8c22-cd526fa510a9.png
ORGANIZER;CN="HDMSARIST":MAILTO:info@hdmsarist.hr
END:VEVENT
BEGIN:VEVENT
DTSTART;VALUE=DATE:20180322
DTEND;VALUE=DATE:20180324
DTSTAMP:20260422T122305
CREATED:20171119T224738Z
LAST-MODIFIED:20180202T111525Z
UID:1820-1521676800-1521849599@www.akzvu.hr
SUMMARY:Obrazovanje i istraživanje za kvalitetnu zdravstvenu praksu
DESCRIPTION:Poštovani\, \nZdravstveno veleučilište organizira 17. Konferenciju medicinskih sestara i tehničara i 3. konferenciju zdravstvenih profesija od 22. do 23. ožujka 2018. u Opatiji  s vodećom temom i nazivom OBRAZOVANJE I ISTRAŽIVANJE ZA KVALITETNU ZDRAVSTVENU PRAKSU. \nVrhunski stručnjaci i iskusni istraživači i praktičari iz različitih područja zdravstva i drugih područja iznijet će nove spoznaje\, preporuke\, razmišljanja i razmijeniti iskustva sa sudionicima Konferencije. \nIstraživanje je preduvjet i pretpostavka unapređenja svih aspekata brige o zdravlju\, a efikasnije obrazovanje osigurava brži i kvalitetniji transfer znanja kao i efikasnu primjenu postojećih i novostečenih spoznaja. \nBrzina otkrivanja novih činjenica i spoznaja kao i brojnost istraživanja svakodnevno rastu. Samo one društvene zajednice i pojedine društvene skupine koje se mogu aktivno uključiti u te akcelerirane procese bit će u stanju prilagođavati se promjenama  i omogućiti najvišu razinu usluga članovima svojih društvenih zajednica. Ovi procesi dobivaju posebno na težini kada je u pitanju zdravlje svih članova društvene zajednice. U aktivnostima koje su usmjerene postizanju kvalitetne zdravstvene prakse poželjno je koristiti sve raspoložive resurse za istraživanje i stjecanje novih znanja kao i za učinkovitiji prijenos tih znanja kroz edukaciju svih zdravstvenih djelatnika. \nProgram Konferencije uključuje različite sadržaje iz područja istraživanja i obrazovanja ali i pretpostavki za efikasno povezivanje ovih procesa sa svakodnevnom zdravstvenom praksom. \nSadržaji Konferencije OBRAZOVANJE I ISTRAŽIVANJE ZA KVALITETNU ZDRAVSTVENU PRAKSU razvrstani su u nekoliko cjelina i tema: \n\nIstraživanje u zdravstvu i praksa temeljena na dokazima\nUčinkoviti načini širenja novih istraživačkih spoznaja u 21. stoljeću\nKarijera i obrazovanje zdravstvenih profesionalaca\nModeli obrazovanja zdravstvenih profesionalaca\nSuvremene tehnologije i mogućnosti učinkovitog obrazovanja\nIstraživanje i obrazovanje zdravstvenih profesionalaca i sigurnost pacijenata\nEtički aspekti istraživanja u zdravstvu\n\nSukladno broju prijava radovi će se raščlaniti u odgovarajuću (pod)temu. Raduje nas Vaš dolazak te mogućnost zajedničkog traženja što boljih pristupa i postupaka u istraživanju i obrazovanju zdravstvenih stručnjaka. Program će biti objavljen po dovršenom postupku prihvaćanja radova. \nOrganizacijski i stručni odbor konferencije\nKrešimir Rotim\, Jadranka Pavić i Damir Lučanin
URL:https://www.akzvu.hr/dogadaj/obrazovanje-istrazivanje-kvalitetnu-zdravstvenu-praksu/
LOCATION:Hotel Royal Opatija\, Ulica Viktora Cara Emina 10\, Opatija\, 51410\, Croatia (Local Name: Hrvatska)
CATEGORIES:Događaji,Konferencije
ATTACH;FMTTYPE=image/png:https://www.akzvu.hr/wp-content/uploads/2017/11/Screenshot-2017-11-19-23.44.08.png
END:VEVENT
BEGIN:VEVENT
DTSTART;VALUE=DATE:20180222
DTEND;VALUE=DATE:20180223
DTSTAMP:20260422T122305
CREATED:20180202T092650Z
LAST-MODIFIED:20180202T111506Z
UID:1965-1519257600-1519343999@www.akzvu.hr
SUMMARY:Leadership u zdravstvu 2018.
DESCRIPTION:Zdravstveno veleučilište kao jedna od najstarijih obrazovnih ustanova\, sa preko 50 godina iskustva u edukaciji stručnjaka i zdravstvenih profesionalaca u Hrvatskoj\, organizira tečaj stručnog usavršavanja s ciljem pružanja sveobuhvatnog uvida u suvremene trendove leadershipa u zdravstvu.
URL:https://www.akzvu.hr/dogadaj/leadership-zdravstvu-2018/
LOCATION:Zdravstveno veleučilište (Dvorana 301\, Ksaver 209)\, Ksaver 209\, Zagreb\, 10000\, Croatia (Local Name: Hrvatska)
CATEGORIES:Edukacije
ATTACH;FMTTYPE=image/png:https://www.akzvu.hr/wp-content/uploads/2018/02/3b4677b0-41ba-4d79-ab9a-1afbc3fd2484.png
END:VEVENT
BEGIN:VEVENT
DTSTART;TZID=Europe/Zagreb:20171111T110000
DTEND;TZID=Europe/Zagreb:20171111T150000
DTSTAMP:20260422T122305
CREATED:20170712T181353Z
LAST-MODIFIED:20170712T181353Z
UID:1545-1510398000-1510412400@www.akzvu.hr
SUMMARY:Futur Z: Dan sestrinstva 2017.
DESCRIPTION:Hrvatsko društvo za poslovnu etiku i zdravstvenu ekonomiku Hrvatskog liječničkog zbora organizira Kongres „Zdravlje i zdravstvena zaštita 2015.-2030. Futur Z„ od 10. do 12. studenoga 2017. u Opatiji. U sklopu Kongresa i u suradnji s Hrvatskim nacionalnim savezom sestrinstva i Alumni klubom Zdravstvenog veleučilišta organizira se Sestrinski dan\, 11. studenoga 2017. \nVizija i misao vodilja ovog projekta je organizirati jedinstven događaj u regiji koji okuplja sve sudionike zdravstvenog sustava na razini sustava obrazovanja te primarne\, sekundarne i tercijarne zdravstvene zaštite. \nTijekom Sestrinskog dana biti će organizirane javne rasprave u vidu okruglih stolova sa slijedećim temama: \n\nIndikatori kvalitete u zdravstvenoj njezi\nBudućnost obrazovanja medicinskih sestara\nSuradnja primare\, sekundarne i tercijarne zdravstvene zaštite\n\nSkupu će nazočiti  brojni ugledni gosti i predavači s najuglednijih hrvatskih fakulteta i visokih učilišta\, predstavnici komora\, djelatnici zdravstvene administracije i svi drugi zainteresirani čimbenici zdravstvenog sustava. \nSve detaljne informacije vezane za ovaj događaj možete dobiti na http://futur-z.com/dan-sestrinstva-na-futuru-z/
URL:https://www.akzvu.hr/dogadaj/futur-z-dan-sestrinstva-2017/
LOCATION:Hotel Royal Opatija\, Ulica Viktora Cara Emina 10\, Opatija\, 51410\, Croatia (Local Name: Hrvatska)
CATEGORIES:Događaji,Konferencije
ATTACH;FMTTYPE=image/jpeg:https://www.akzvu.hr/wp-content/uploads/2017/07/FuturZ-small-e1499879520188.jpg
ORGANIZER;CN="AKZVU":MAILTO:alumni@akzvu.hr
END:VEVENT
END:VCALENDAR