BEGIN:VCALENDAR
VERSION:2.0
PRODID:-//Alumni Zdravstvenog veleučilišta - ECPv6.15.18//NONSGML v1.0//EN
CALSCALE:GREGORIAN
METHOD:PUBLISH
X-ORIGINAL-URL:https://www.akzvu.hr
X-WR-CALDESC:Događanja za mjesec: Alumni Zdravstvenog veleučilišta
REFRESH-INTERVAL;VALUE=DURATION:PT1H
X-Robots-Tag:noindex
X-PUBLISHED-TTL:PT1H
BEGIN:VTIMEZONE
TZID:Europe/Zagreb
BEGIN:DAYLIGHT
TZOFFSETFROM:+0100
TZOFFSETTO:+0200
TZNAME:CEST
DTSTART:20170326T010000
END:DAYLIGHT
BEGIN:STANDARD
TZOFFSETFROM:+0200
TZOFFSETTO:+0100
TZNAME:CET
DTSTART:20171029T010000
END:STANDARD
BEGIN:DAYLIGHT
TZOFFSETFROM:+0100
TZOFFSETTO:+0200
TZNAME:CEST
DTSTART:20180325T010000
END:DAYLIGHT
BEGIN:STANDARD
TZOFFSETFROM:+0200
TZOFFSETTO:+0100
TZNAME:CET
DTSTART:20181028T010000
END:STANDARD
BEGIN:DAYLIGHT
TZOFFSETFROM:+0100
TZOFFSETTO:+0200
TZNAME:CEST
DTSTART:20190331T010000
END:DAYLIGHT
BEGIN:STANDARD
TZOFFSETFROM:+0200
TZOFFSETTO:+0100
TZNAME:CET
DTSTART:20191027T010000
END:STANDARD
BEGIN:DAYLIGHT
TZOFFSETFROM:+0100
TZOFFSETTO:+0200
TZNAME:CEST
DTSTART:20200329T010000
END:DAYLIGHT
BEGIN:STANDARD
TZOFFSETFROM:+0200
TZOFFSETTO:+0100
TZNAME:CET
DTSTART:20201025T010000
END:STANDARD
BEGIN:DAYLIGHT
TZOFFSETFROM:+0100
TZOFFSETTO:+0200
TZNAME:CEST
DTSTART:20210328T010000
END:DAYLIGHT
BEGIN:STANDARD
TZOFFSETFROM:+0200
TZOFFSETTO:+0100
TZNAME:CET
DTSTART:20211031T010000
END:STANDARD
END:VTIMEZONE
BEGIN:VEVENT
DTSTART;TZID=Europe/Zagreb:20200211T153000
DTEND;TZID=Europe/Zagreb:20200211T170000
DTSTAMP:20260420T123211
CREATED:20200207T105115Z
LAST-MODIFIED:20200207T105115Z
UID:3245-1581435000-1581440400@www.akzvu.hr
SUMMARY:Obilježavanje Svjetskog dana bolesnika
DESCRIPTION:Povodom obilježavanja Svjetskog dana bolesnika pozivamo Vas na predavanje Kome u zdravstvu pacijenti najviše vjeruju? koje će održati Ivica Belina\, prof.edu.reh.\, predsjednik Koalicije udruga u zdravstvu.
URL:https://www.akzvu.hr/dogadaj/obiljezavanje-svjetskog-dana-bolesnika/
LOCATION:Zdravstveno veleučilište (Dvorana 111\, Mlinarska 38)\, Mlinarska cesta 38\, Dvorana 111\, Zagreb\, 10000\, Croatia (Local Name: Hrvatska)
CATEGORIES:Događaji
ATTACH;FMTTYPE=image/jpeg:https://www.akzvu.hr/wp-content/uploads/2020/02/SDB2020.jpg
END:VEVENT
BEGIN:VEVENT
DTSTART;VALUE=DATE:20191107
DTEND;VALUE=DATE:20191111
DTSTAMP:20260420T123211
CREATED:20190721T094512Z
LAST-MODIFIED:20190721T102331Z
UID:3149-1573084800-1573430399@www.akzvu.hr
SUMMARY:4. Međunarodni kongres Hrvatskog nacionalnog saveza sestrinstva
DESCRIPTION:Hrvatski nacionalni savez sestrinstva poziva Vas na 4. Međunarodni kongres s temom IDENTITET MEDICINSKE SESTRE U SVJETLU PROMJENA ZDRAVSTVENOG SUSTAVA\, koji će se održati u Hotelu Olympia Sky Vodice\, od 07. – 10.11.2019. \n*** ALUMNI POKLANJA *** Odgovorite točno na nagradno pitanje na našoj Facebook stranici i osvojite besplatnu kotizaciju za ovaj kongres!
URL:https://www.akzvu.hr/dogadaj/4-medunarodni-kongres-hrvatskog-nacionalnog-saveza-sestrinstva/
LOCATION:Hotel Olympia\, Vodice\, Ul. Ljudevita Gaja bb\, Vodice\, 22211\, Croatia (Local Name: Hrvatska)
CATEGORIES:Događaji,Konferencije
ATTACH;FMTTYPE=image/jpeg:https://www.akzvu.hr/wp-content/uploads/2019/07/j6byh20489v2sp.jpg
ORGANIZER;CN="Hrvatski nacionalni savez sestrinstva":MAILTO:info@hnss.hr
END:VEVENT
BEGIN:VEVENT
DTSTART;VALUE=DATE:20181116
DTEND;VALUE=DATE:20181119
DTSTAMP:20260420T123211
CREATED:20180922T095811Z
LAST-MODIFIED:20181020T161136Z
UID:2423-1542326400-1542585599@www.akzvu.hr
SUMMARY:FUTUR-Z Zdravlje i zdravstvena zaštita 2018.
DESCRIPTION:Poštovane kolegice i kolege\, \nČast mi je i zadovoljstvo objaviti kako se i ove godine održava kongres s međunarodnim sudjelovanjem „Zdravlje i zdravstvena zaštita 2015 -2030 Futur Z “ u organizaciji Hrvatskog društva za poslovnu etiku i zdravstvenu ekonomiku Hrvatskog liječničkog zbora . \nKongres će se održati u terminu  od 16. – 18. 11 . 2018. u Opatiji\, u kongresnom centru hotela Royal. \nMisao vodilja projekta i platforme Futur Z je organizirati jedinstveni događaj u  Republici Hrvatskoj i regiji koji okuplja sve neposredne dionike zdravstvenog sustava – liječnike \, medicinske stručnjake\, zdravstvene djelatnike\, medicinske sestre i predstavnike javnog zdravstvenog sustava. \nCilj je omogućiti interakciju i direktni kontakt sa  predstavnicima zdravstvene administracije \, državnih institucija\, sektora zdravstvenog osiguranja\, farmaceutskom industrijom\, predstavnicima strukovnih komora\, stručnih udruga vezanih uz zdravstvenu djelatnost \, IT sektorom \, udrugama pacijenata  ali i medijima koji su zastupljeni u velikom broju i izuzetno bitni zbog senzibilizacije javnosti . \nSamo jasna strategija razvoja zdravstvenog sustava uz sinergiju svih dionika donijeti će maksimalnu korist i skrb za pacijente\, održivi zdravstveni sustav i racionalizaciju postupaka . \nSmatramo da je sinergija među svim tim sektorima u zdravstvenom sustavu izuzetno važna\, i da se o smjeru razvoja mora  donijeti jasna strategija i konsenzus za slijedećih 10 – 15 godina. \nKongres FUTUR Z  organiziran je svake godine do sada pod pokroviteljstvom ureda  Predsjednice Republike Hrvatske\, Ministarstva zdravstva \, Hrvatske liječničke komore\, Hrvatskog zavoda za zdravstveno osiguranje\, Koordinacije hrvatske obiteljske medicine ( KoHOM ) \,Hrvatske udruge bolničkih liječnika ( HUBOL) \,većine udruga primarne zdravstvene zaštite\, Hrvatskog zavoda za javno zdravstvo \, Hrvatske udruge poslodavaca ( HUP) \, Američke gospodarske komore u Hrvatskoj (Am Cham)\, Inovativne farmaceutske inicijative ( iF!) \, Hrvatske komore medicinskih sestara \, Hrvatske ljekarničke komore \, Hrvatskog farmaceutskog društva \, i niz važnih udruga i kompanija . \nuniv.mag. Željko Rotim\, dr. dent med.\nPredsjednik Hrvatskog društva za poslovnu etiku i zdravstvenu ekonomiku\nHRVATSKOG LIJEČNIČKOG ZBORA \n>> OSVOJI BESPLATNU KOTIZACIJU <<
URL:https://www.akzvu.hr/dogadaj/futur-z-zdravlje-i-zdravstvena-zastita-2018/
LOCATION:Hotel Royal Opatija\, Ulica Viktora Cara Emina 10\, Opatija\, 51410\, Croatia (Local Name: Hrvatska)
CATEGORIES:Događaji,Konferencije
ATTACH;FMTTYPE=image/jpeg:https://www.akzvu.hr/wp-content/uploads/2018/09/30742654_1921108841232645_8206812333691895808_n.jpg
END:VEVENT
BEGIN:VEVENT
DTSTART;VALUE=DATE:20180518
DTEND;VALUE=DATE:20180519
DTSTAMP:20260420T123211
CREATED:20180213T111322Z
LAST-MODIFIED:20180214T082230Z
UID:2150-1526601600-1526687999@www.akzvu.hr
SUMMARY:10. Studentska konferencija 'Javno zdravstvo' FZS Sveučilišta u Ljubljani
DESCRIPTION:Zdravstvena fakulteta Univerze v Ljubljani in Študentski svet Zdravstvene fakultete sta organizatorja 10. študentske in tokrat tudi 1. mednarodne konference s področja zdravstvenih ved. Konferenca bo potekala 18. maja 2018 pod delovnim naslovom »JAVNO ZDRAVJE«. \n​Študente zdravstvenih fakultet in visokih šol vabimo\, da na konferenci predstavijo zaključna dela\, projekte in raziskovalne naloge iz študijskega leta 2016/2017. \n​Za posamezen študijski program lahko pripravite do 3 prispevke. Avtorji morate sami poskrbeti za recenzijo prispevka (2 recenzenta)\, ob tem pa prosimo\, da imena recenzentov tudi navedete. \nRokovi za prijavu radova za studente Zdravstvenog veleučilišta produženi su: \n\nZa sažetke do 5. ožujka 2018.\nZa radove do 5. travnja 2018.\n\nZdravstveno veleučilište osigurati će prijevoz aktivnim sudionicima konferencije s prihvaćenim radom. Više informacija u tekstu na poveznici (ovdje).
URL:https://www.akzvu.hr/dogadaj/10-studentska-konferencija-javno-zdravstvo-fzs-sveucilista-u-ljubljani/
LOCATION:Zdravstvena Fakulteta Univerza v Ljubljani\, Zdravstvena pot 5\, Ljubljana\, 1000\, Slovenia
CATEGORIES:Događaji,Konferencije
ATTACH;FMTTYPE=image/png:https://www.akzvu.hr/wp-content/uploads/2018/02/Screenshot-2018-02-13-19.27.50.png
ORGANIZER;CN="Zdravstvena Fakulteta Univerza v Ljubljani":MAILTO:10.studentconferencezf@gmail.com
END:VEVENT
BEGIN:VEVENT
DTSTART;TZID=Europe/Zagreb:20180407T090000
DTEND;TZID=Europe/Zagreb:20180407T140000
DTSTAMP:20260420T123211
CREATED:20180406T070207Z
LAST-MODIFIED:20180406T070207Z
UID:2341-1523091600-1523109600@www.akzvu.hr
SUMMARY:Obilježavanje Svjetskog dana zdravlja
DESCRIPTION:Zagreb\, 4. travnja 2018. – Obilježavanja Svjetskog dana zdravlja 2018. u organizaciji Grada Zagreba\, Gradskog ureda za zdravstvo i u suradnji s Hrvatskom komorom zdravstvenih radnika\, strukovni razred za medicinsko-laboratorijsku djelatnost\, Hrvatskim zavodom za javno zdravstvo i Hrvatskim zavodom za zdravstveno osiguranje održat će se ove subote\, 7. travnja na Cvjetnom trgu u trajanju od 9.00 do 14.00 sati. \nZagrepčanke i Zagrepčani će moći u subotu potpuno besplatno izmjeriti razinu glukoze u krvi\, izmjeriti hormon TSH\, napraviti cjelovitu krvnu sliku\, a Zagrepčani će moći izmjeriti i PSA vrijednost (tumorski biljeg za prostatu) i to zahvaljujući članovima Hrvatske komore zdravstvenih radnika\, razred MLD koji ujedno obilježavaju i svoj Međunarodni dan. \nPrevencija je najvažniji dio zdravstvene zaštite\, stoga će uz besplatna mjerenja na Cvjetnom trgu građani dobiti i savjete o zdravoj prehrani i redovitoj tjelovježbi\, a imat će prilike i prepustiti se u ruke profesionalnih fizioterapeuta. Na štandovima Hrvatskog zavoda za javno zdravstvo i Hrvatskog zavoda za zdravstveno osiguranje stručnjaci će informirati građane o različitim aspektima spolnog zdravlja i pristupačnosti odgovarajuće zdravstvene skrbi u prevenciji i liječenju. \nOd samog osnutka Svjetska zdravstvena organizacija rukovodi se načelom da svi ljudi trebaju moći ostvariti svoje pravo na najvišu razinu zdravlja. Budući da se univerzalna zdravstvena zaštita postiže kad je politička volja snažna\, ovogodišnjim geslom Svjetskog dana zdravlja „Univerzalna zdravstvena zaštita: svatko\, svugdje“ želi se poručiti kako svi imaju pravo na zdravlje. Obilježavanju se pridružuju i organizatori Svjetskog dana zdravlja na Cvjetnom trgu na čelu s Gradom Zagrebom te građanima ovim povodom poklanjaju različite pretrage i savjetovanja. \n„Ovogodišnja tema Svjetskog dana zdravlja iznimno je važna i podsjeća nas da je osnovna zdravstvena zaštita pravo svakog čovjeka\, a ne luksuz pojedince. Pozivamo naše sugrađane da se odazovu u subotu na besplatne pretrage\, kao i na savjetovanja o zdravom načinu života\, kako bi zahvaljujući preventivnom ponašanju spriječili zdravstvene probleme u budućnosti.“\,  istaknuo je dr.sc. Vjekoslav Jeleč\, pročelnik Gradskog ureda za zdravstvo Grada Zagreba. \nGrađani će moći u subotu na Cvjetnom trgu napraviti sljedeće pretrage: \nVađenje venske krvi \n\nPSA i TSH od 9.00 do 10.00 h\, nalazi će se slati građanima na e-mail adresu ili će biti podijeljeni na info pultu istog dana oko 12.00 h\nKKS od 10.00 do 14.00 h\, nalaz na licu mjesta\n\nVađenje kapilarne krvi \n\nGUK i PSA od 9.00 do 11.00 h\, nalaz na licu mjesta\n\nTakođer\, na Cvjetnom trgu građanima će se dijeliti kuponi za zagrebačke bolnice u kojima će se obavljati besplatne pretrage lipidograma od 9. do 12.4.\, kada će medicinsko-laboratorijski djelatnici obilježavati svoj Međunarodni dan (15.04.).
URL:https://www.akzvu.hr/dogadaj/obiljezavanje-svjetskog-dana-zdravlja/
LOCATION:Trg Petra Preradovića (Cvjetni trg)\, Zagreb\, Trg Petra Preradovića\, Zagreb\, 10000\, Croatia (Local Name: Hrvatska)
CATEGORIES:Događaji
ATTACH;FMTTYPE=image/jpeg:https://www.akzvu.hr/wp-content/uploads/2018/04/15-04-DanMLD.jpg
ORGANIZER;CN="HKZR-MLD":MAILTO:ured@mld.hkzr.hr
END:VEVENT
BEGIN:VEVENT
DTSTART;VALUE=DATE:20180222
DTEND;VALUE=DATE:20180223
DTSTAMP:20260420T123211
CREATED:20180202T092650Z
LAST-MODIFIED:20180202T111506Z
UID:1965-1519257600-1519343999@www.akzvu.hr
SUMMARY:Leadership u zdravstvu 2018.
DESCRIPTION:Zdravstveno veleučilište kao jedna od najstarijih obrazovnih ustanova\, sa preko 50 godina iskustva u edukaciji stručnjaka i zdravstvenih profesionalaca u Hrvatskoj\, organizira tečaj stručnog usavršavanja s ciljem pružanja sveobuhvatnog uvida u suvremene trendove leadershipa u zdravstvu.
URL:https://www.akzvu.hr/dogadaj/leadership-zdravstvu-2018/
LOCATION:Zdravstveno veleučilište (Dvorana 301\, Ksaver 209)\, Ksaver 209\, Zagreb\, 10000\, Croatia (Local Name: Hrvatska)
CATEGORIES:Edukacije
ATTACH;FMTTYPE=image/png:https://www.akzvu.hr/wp-content/uploads/2018/02/3b4677b0-41ba-4d79-ab9a-1afbc3fd2484.png
END:VEVENT
END:VCALENDAR